BEGIN:VCALENDAR
VERSION:2.0
PRODID:-//HOEWA//Walk HOE Sunday (Cannock chase - Marquis drive)//EN
METHOD:PUBLISH
BEGIN:VEVENT
UID:20260628T100000-889133481-heartofenglandway.org
DTSTAMP:20260628T100000
DTSTART:20260628T100000
DTEND:20260628T160000
SUMMARY:Walk HOE Sunday (Cannock chase - Marquis drive)
DESCRIPTION:Distance (miles): 9.73\n\nDay Notes:\nPart of the day's walk will follow the Heart of England Way.\nApproximately 4 to 5 hours.\nPlease bring a packed lunch and drinks.\nCircular walk from the visitor centre and back \nWS12 4PW\n\nParking:\nMarquis Drive roadside \nWS12 4PW\n\nGrid reference: SK 0061 1542\n\nLeader: Bill
LOCATION:Marquis Drive roadside  WS12 4PW
ORGANIZER;CN=Admin:MAILTO:info@heartofenglandway.org
URL:http://www.heartofenglandway.org
CATEGORIES:Walk
BEGIN:VALARM
TRIGGER:-PT24H
DESCRIPTION:Alarm Reminder
ACTION:DISPLAY
END:VALARM
END:VEVENT
END:VCALENDAR
