BEGIN:VCALENDAR
VERSION:2.0
PRODID:-//HOEWA//Walk HOE Sunday (Old Saracen,s Head - Balsall Common)//EN
METHOD:PUBLISH
BEGIN:VEVENT
UID:20260726T100000-1349910026-heartofenglandway.org
DTSTAMP:20260726T100000
DTSTART:20260726T100000
DTEND:20260726T160000
SUMMARY:Walk HOE Sunday (Old Saracen,s Head - Balsall Common)
DESCRIPTION:Distance (miles): 11.49\n\nDay Notes:\nPart of the day's walk will follow the Heart of England Way.\nApproximately 4 to 5 hours.\nPlease bring a packed lunch and drinks.\nWalk from the car park and back\n\nParking:\nSaracen,s Head Car park\nCV7 7AS\n\nGrid reference: SP 2237 7707\n\nLeader: Bill
LOCATION:Saracen,s Head Car park CV7 7AS
ORGANIZER;CN=Admin:MAILTO:info@heartofenglandway.org
URL:http://www.heartofenglandway.org
CATEGORIES:Walk
BEGIN:VALARM
TRIGGER:-PT24H
DESCRIPTION:Alarm Reminder
ACTION:DISPLAY
END:VALARM
END:VEVENT
END:VCALENDAR
