BEGIN:VCALENDAR
VERSION:2.0
PRODID:-//HOEWA//Walk HOE Sunday (Cannock Chase - Marquis drive)//EN
METHOD:PUBLISH
BEGIN:VEVENT
UID:20260830T100000-1637190873-heartofenglandway.org
DTSTAMP:20260830T100000
DTSTART:20260830T100000
DTEND:20260830T160000
SUMMARY:Walk HOE Sunday (Cannock Chase - Marquis drive)
DESCRIPTION:Distance (miles): 10.72\n\nDay Notes:\nPart of the day's walk will follow the Heart of England Way.\nApproximately 4 to 5 hours.\nPlease bring a packed lunch and drinks.\nCircular walk from the visitor centre and back\n\nParking:\nManrquis drive - visitor centre \nWS12 4PW\n\nGrid reference: SP 2237 7707\n\nLeader: Bill
LOCATION:Manrquis drive - visitor centre  WS12 4PW
ORGANIZER;CN=Admin:MAILTO:info@heartofenglandway.org
URL:http://www.heartofenglandway.org
CATEGORIES:Walk
BEGIN:VALARM
TRIGGER:-PT24H
DESCRIPTION:Alarm Reminder
ACTION:DISPLAY
END:VALARM
END:VEVENT
END:VCALENDAR
