BEGIN:VCALENDAR
VERSION:2.0
PRODID:-//HOEWA//Walk HOE Sunday (The Old Saracens Head  Balsall Common)//EN
METHOD:PUBLISH
BEGIN:VEVENT
UID:20261025T100000-416041069-heartofenglandway.org
DTSTAMP:20261025T100000
DTSTART:20261025T100000
DTEND:20261025T160000
SUMMARY:Walk HOE Sunday (The Old Saracens Head  Balsall Common)
DESCRIPTION:Distance (miles): 11.49\n\nDay Notes:\nPart of the day's walk will follow the Heart of England Way.\nApproximately 4 to 5 hours.\nPlease bring a packed lunch and drinks.\nCircular walk from The Old Saracens Head car park.\nBalsall Common.\nCV7 7AS\n\nParking:\nThe Old Saracens Head car park.\nCV7 7AS\n\nGrid reference: SP 2237 7707\n\nLeader: Bill
LOCATION:The Old Saracens Head car park. CV7 7AS
ORGANIZER;CN=Admin:MAILTO:info@heartofenglandway.org
URL:http://www.heartofenglandway.org
CATEGORIES:Walk
BEGIN:VALARM
TRIGGER:-PT24H
DESCRIPTION:Alarm Reminder
ACTION:DISPLAY
END:VALARM
END:VEVENT
END:VCALENDAR
