BEGIN:VCALENDAR
VERSION:2.0
PRODID:-//HOEWA//Walk HOE Sunday (Fleur de Lys  Lowsonford)//EN
METHOD:PUBLISH
BEGIN:VEVENT
UID:20261129T100000-1300368646-heartofenglandway.org
DTSTAMP:20261129T100000
DTSTART:20261129T100000
DTEND:20261129T160000
SUMMARY:Walk HOE Sunday (Fleur de Lys  Lowsonford)
DESCRIPTION:Distance (miles): 11.20\n\nDay Notes:\nPart of the day's walk will follow the Heart of England Way.\nApproximately 4 to 5 hours.\nPlease bring a packed lunch and drinks.\nCircular walk from the car park - Fleur de Lys\nB95 5HJ\n\nParking:\nFleur de Lys car park \nLowsonford \nB95 5HJ\n\nGrid reference: SP 1875 6794\n\nLeader: Bill
LOCATION:Fleur de Lys car park  Lowsonford  B95 5HJ
ORGANIZER;CN=Admin:MAILTO:info@heartofenglandway.org
URL:http://www.heartofenglandway.org
CATEGORIES:Walk
BEGIN:VALARM
TRIGGER:-PT24H
DESCRIPTION:Alarm Reminder
ACTION:DISPLAY
END:VALARM
END:VEVENT
END:VCALENDAR
