BEGIN:VCALENDAR
VERSION:2.0
PRODID:-//HOEWA//Walk HOE Wednesday (Hartshill)//EN
METHOD:PUBLISH
BEGIN:VEVENT
UID:20260506T103000-21921660-heartofenglandway.org
DTSTAMP:20260506T103000
DTSTART:20260506T103000
DTEND:20260506T130000
SUMMARY:Walk HOE Wednesday (Hartshill)
DESCRIPTION:Distance (miles): 4.40\n\nDay Notes:\nCircular walk from The Anchor inn car park and back\n\nParking:\nThe Anchor inn car park\nCV10 0RT\n\nGrid reference: SP 3352 9473\n\nLeader: Bill
LOCATION:The Anchor inn car park CV10 0RT
ORGANIZER;CN=Admin:MAILTO:info@heartofenglandway.org
URL:http://www.heartofenglandway.org
CATEGORIES:Walk
BEGIN:VALARM
TRIGGER:-PT24H
DESCRIPTION:Alarm Reminder
ACTION:DISPLAY
END:VALARM
END:VEVENT
END:VCALENDAR
