BEGIN:VCALENDAR
VERSION:2.0
PRODID:-//HOEWA//Walk HOE Wednesday (Great Alne / Alne End)//EN
METHOD:PUBLISH
BEGIN:VEVENT
UID:20260610T103000-1537244536-heartofenglandway.org
DTSTAMP:20260610T103000
DTSTART:20260610T103000
DTEND:20260610T130000
SUMMARY:Walk HOE Wednesday (Great Alne / Alne End)
DESCRIPTION:Distance (miles): 4.54\n\nDay Notes:\nCircular walk from Gurkhas - Mother Huffcap car park and back.\n\nParking:\nGurkhas - Mother Huffcap car park B49 6HY\n\nGrid reference: SP 1139 5932\n\nLeader: Bill
LOCATION:Gurkhas - Mother Huffcap car park B49 6HY
ORGANIZER;CN=Admin:MAILTO:info@heartofenglandway.org
URL:http://www.heartofenglandway.org
CATEGORIES:Walk
BEGIN:VALARM
TRIGGER:-PT24H
DESCRIPTION:Alarm Reminder
ACTION:DISPLAY
END:VALARM
END:VEVENT
END:VCALENDAR
